BEGIN:VCALENDAR
VERSION:2.0
PRODID:-//Hello Yellow - ECPv6.15.12.2//NONSGML v1.0//EN
CALSCALE:GREGORIAN
METHOD:PUBLISH
X-WR-CALNAME:Hello Yellow
X-ORIGINAL-URL:https://www.hello-yellow.at
X-WR-CALDESC:Veranstaltungen für Hello Yellow
REFRESH-INTERVAL;VALUE=DURATION:PT1H
X-Robots-Tag:noindex
X-PUBLISHED-TTL:PT1H
BEGIN:VTIMEZONE
TZID:Europe/Berlin
BEGIN:DAYLIGHT
TZOFFSETFROM:+0100
TZOFFSETTO:+0200
TZNAME:CEST
DTSTART:20250330T010000
END:DAYLIGHT
BEGIN:STANDARD
TZOFFSETFROM:+0200
TZOFFSETTO:+0100
TZNAME:CET
DTSTART:20251026T010000
END:STANDARD
BEGIN:DAYLIGHT
TZOFFSETFROM:+0100
TZOFFSETTO:+0200
TZNAME:CEST
DTSTART:20260329T010000
END:DAYLIGHT
BEGIN:STANDARD
TZOFFSETFROM:+0200
TZOFFSETTO:+0100
TZNAME:CET
DTSTART:20261025T010000
END:STANDARD
BEGIN:DAYLIGHT
TZOFFSETFROM:+0100
TZOFFSETTO:+0200
TZNAME:CEST
DTSTART:20270328T010000
END:DAYLIGHT
BEGIN:STANDARD
TZOFFSETFROM:+0200
TZOFFSETTO:+0100
TZNAME:CET
DTSTART:20271031T010000
END:STANDARD
END:VTIMEZONE
BEGIN:VEVENT
DTSTART;TZID=Europe/Berlin:20260428T153000
DTEND;TZID=Europe/Berlin:20260428T180000
DTSTAMP:20260425T121756
CREATED:20260416T135938Z
LAST-MODIFIED:20260416T141828Z
UID:10002279-1777390200-1777399200@www.hello-yellow.at
SUMMARY:Jugend @ hello yellow Velodrom Linz
DESCRIPTION:
URL:https://www.hello-yellow.at/event/jugend-hello-yellow-velodrom-linz/2026-04-28/
END:VEVENT
BEGIN:VEVENT
DTSTART;TZID=Europe/Berlin:20260505T153000
DTEND;TZID=Europe/Berlin:20260505T180000
DTSTAMP:20260425T121756
CREATED:20260416T135938Z
LAST-MODIFIED:20260416T141828Z
UID:10002287-1777995000-1778004000@www.hello-yellow.at
SUMMARY:Jugend @ hello yellow Velodrom Linz
DESCRIPTION:
URL:https://www.hello-yellow.at/event/jugend-hello-yellow-velodrom-linz/2026-05-05/
END:VEVENT
BEGIN:VEVENT
DTSTART;TZID=Europe/Berlin:20260512T153000
DTEND;TZID=Europe/Berlin:20260512T180000
DTSTAMP:20260425T121756
CREATED:20260416T135938Z
LAST-MODIFIED:20260416T141828Z
UID:10002288-1778599800-1778608800@www.hello-yellow.at
SUMMARY:Jugend @ hello yellow Velodrom Linz
DESCRIPTION:
URL:https://www.hello-yellow.at/event/jugend-hello-yellow-velodrom-linz/2026-05-12/
END:VEVENT
BEGIN:VEVENT
DTSTART;TZID=Europe/Berlin:20260519T153000
DTEND;TZID=Europe/Berlin:20260519T180000
DTSTAMP:20260425T121756
CREATED:20260416T135938Z
LAST-MODIFIED:20260416T141828Z
UID:10002289-1779204600-1779213600@www.hello-yellow.at
SUMMARY:Jugend @ hello yellow Velodrom Linz
DESCRIPTION:
URL:https://www.hello-yellow.at/event/jugend-hello-yellow-velodrom-linz/2026-05-19/
END:VEVENT
BEGIN:VEVENT
DTSTART;TZID=Europe/Berlin:20260526T153000
DTEND;TZID=Europe/Berlin:20260526T180000
DTSTAMP:20260425T121756
CREATED:20260416T135938Z
LAST-MODIFIED:20260416T141828Z
UID:10002290-1779809400-1779818400@www.hello-yellow.at
SUMMARY:Jugend @ hello yellow Velodrom Linz
DESCRIPTION:
URL:https://www.hello-yellow.at/event/jugend-hello-yellow-velodrom-linz/2026-05-26/
END:VEVENT
BEGIN:VEVENT
DTSTART;TZID=Europe/Berlin:20260602T153000
DTEND;TZID=Europe/Berlin:20260602T180000
DTSTAMP:20260425T121756
CREATED:20260416T135938Z
LAST-MODIFIED:20260416T141828Z
UID:10002291-1780414200-1780423200@www.hello-yellow.at
SUMMARY:Jugend @ hello yellow Velodrom Linz
DESCRIPTION:
URL:https://www.hello-yellow.at/event/jugend-hello-yellow-velodrom-linz/2026-06-02/
END:VEVENT
BEGIN:VEVENT
DTSTART;TZID=Europe/Berlin:20260609T153000
DTEND;TZID=Europe/Berlin:20260609T180000
DTSTAMP:20260425T121756
CREATED:20260416T135938Z
LAST-MODIFIED:20260416T141828Z
UID:10002292-1781019000-1781028000@www.hello-yellow.at
SUMMARY:Jugend @ hello yellow Velodrom Linz
DESCRIPTION:
URL:https://www.hello-yellow.at/event/jugend-hello-yellow-velodrom-linz/2026-06-09/
END:VEVENT
BEGIN:VEVENT
DTSTART;TZID=Europe/Berlin:20260616T153000
DTEND;TZID=Europe/Berlin:20260616T180000
DTSTAMP:20260425T121756
CREATED:20260416T135938Z
LAST-MODIFIED:20260416T141828Z
UID:10002293-1781623800-1781632800@www.hello-yellow.at
SUMMARY:Jugend @ hello yellow Velodrom Linz
DESCRIPTION:
URL:https://www.hello-yellow.at/event/jugend-hello-yellow-velodrom-linz/2026-06-16/
END:VEVENT
BEGIN:VEVENT
DTSTART;TZID=Europe/Berlin:20260623T153000
DTEND;TZID=Europe/Berlin:20260623T180000
DTSTAMP:20260425T121756
CREATED:20260416T135938Z
LAST-MODIFIED:20260416T141828Z
UID:10002294-1782228600-1782237600@www.hello-yellow.at
SUMMARY:Jugend @ hello yellow Velodrom Linz
DESCRIPTION:
URL:https://www.hello-yellow.at/event/jugend-hello-yellow-velodrom-linz/2026-06-23/
END:VEVENT
BEGIN:VEVENT
DTSTART;TZID=Europe/Berlin:20260630T153000
DTEND;TZID=Europe/Berlin:20260630T180000
DTSTAMP:20260425T121756
CREATED:20260416T135938Z
LAST-MODIFIED:20260416T141828Z
UID:10002295-1782833400-1782842400@www.hello-yellow.at
SUMMARY:Jugend @ hello yellow Velodrom Linz
DESCRIPTION:
URL:https://www.hello-yellow.at/event/jugend-hello-yellow-velodrom-linz/2026-06-30/
END:VEVENT
BEGIN:VEVENT
DTSTART;TZID=Europe/Berlin:20260707T153000
DTEND;TZID=Europe/Berlin:20260707T180000
DTSTAMP:20260425T121756
CREATED:20260416T135938Z
LAST-MODIFIED:20260416T141828Z
UID:10002296-1783438200-1783447200@www.hello-yellow.at
SUMMARY:Jugend @ hello yellow Velodrom Linz
DESCRIPTION:
URL:https://www.hello-yellow.at/event/jugend-hello-yellow-velodrom-linz/2026-07-07/
END:VEVENT
BEGIN:VEVENT
DTSTART;TZID=Europe/Berlin:20260721T153000
DTEND;TZID=Europe/Berlin:20260721T180000
DTSTAMP:20260425T121756
CREATED:20260416T135938Z
LAST-MODIFIED:20260416T141828Z
UID:10002298-1784647800-1784656800@www.hello-yellow.at
SUMMARY:Jugend @ hello yellow Velodrom Linz
DESCRIPTION:
URL:https://www.hello-yellow.at/event/jugend-hello-yellow-velodrom-linz/2026-07-21/
END:VEVENT
BEGIN:VEVENT
DTSTART;TZID=Europe/Berlin:20260728T153000
DTEND;TZID=Europe/Berlin:20260728T180000
DTSTAMP:20260425T121756
CREATED:20260416T135938Z
LAST-MODIFIED:20260416T141828Z
UID:10002299-1785252600-1785261600@www.hello-yellow.at
SUMMARY:Jugend @ hello yellow Velodrom Linz
DESCRIPTION:
URL:https://www.hello-yellow.at/event/jugend-hello-yellow-velodrom-linz/2026-07-28/
END:VEVENT
BEGIN:VEVENT
DTSTART;TZID=Europe/Berlin:20260811T153000
DTEND;TZID=Europe/Berlin:20260811T180000
DTSTAMP:20260425T121756
CREATED:20260416T135938Z
LAST-MODIFIED:20260416T141828Z
UID:10002301-1786462200-1786471200@www.hello-yellow.at
SUMMARY:Jugend @ hello yellow Velodrom Linz
DESCRIPTION:
URL:https://www.hello-yellow.at/event/jugend-hello-yellow-velodrom-linz/2026-08-11/
END:VEVENT
BEGIN:VEVENT
DTSTART;TZID=Europe/Berlin:20260818T153000
DTEND;TZID=Europe/Berlin:20260818T180000
DTSTAMP:20260425T121756
CREATED:20260416T135938Z
LAST-MODIFIED:20260416T141828Z
UID:10002302-1787067000-1787076000@www.hello-yellow.at
SUMMARY:Jugend @ hello yellow Velodrom Linz
DESCRIPTION:
URL:https://www.hello-yellow.at/event/jugend-hello-yellow-velodrom-linz/2026-08-18/
END:VEVENT
BEGIN:VEVENT
DTSTART;TZID=Europe/Berlin:20260825T153000
DTEND;TZID=Europe/Berlin:20260825T180000
DTSTAMP:20260425T121756
CREATED:20260416T135938Z
LAST-MODIFIED:20260416T141828Z
UID:10002303-1787671800-1787680800@www.hello-yellow.at
SUMMARY:Jugend @ hello yellow Velodrom Linz
DESCRIPTION:
URL:https://www.hello-yellow.at/event/jugend-hello-yellow-velodrom-linz/2026-08-25/
END:VEVENT
BEGIN:VEVENT
DTSTART;TZID=Europe/Berlin:20260901T153000
DTEND;TZID=Europe/Berlin:20260901T180000
DTSTAMP:20260425T121756
CREATED:20260416T135938Z
LAST-MODIFIED:20260416T141828Z
UID:10002304-1788276600-1788285600@www.hello-yellow.at
SUMMARY:Jugend @ hello yellow Velodrom Linz
DESCRIPTION:
URL:https://www.hello-yellow.at/event/jugend-hello-yellow-velodrom-linz/2026-09-01/
END:VEVENT
BEGIN:VEVENT
DTSTART;TZID=Europe/Berlin:20260908T153000
DTEND;TZID=Europe/Berlin:20260908T180000
DTSTAMP:20260425T121756
CREATED:20260416T135938Z
LAST-MODIFIED:20260416T141828Z
UID:10002305-1788881400-1788890400@www.hello-yellow.at
SUMMARY:Jugend @ hello yellow Velodrom Linz
DESCRIPTION:
URL:https://www.hello-yellow.at/event/jugend-hello-yellow-velodrom-linz/2026-09-08/
END:VEVENT
BEGIN:VEVENT
DTSTART;TZID=Europe/Berlin:20260915T153000
DTEND;TZID=Europe/Berlin:20260915T180000
DTSTAMP:20260425T121756
CREATED:20260416T135938Z
LAST-MODIFIED:20260416T141828Z
UID:10002280-1789486200-1789495200@www.hello-yellow.at
SUMMARY:Jugend @ hello yellow Velodrom Linz
DESCRIPTION:
URL:https://www.hello-yellow.at/event/jugend-hello-yellow-velodrom-linz/2026-09-15/
END:VEVENT
BEGIN:VEVENT
DTSTART;TZID=Europe/Berlin:20260922T153000
DTEND;TZID=Europe/Berlin:20260922T180000
DTSTAMP:20260425T121756
CREATED:20260416T135938Z
LAST-MODIFIED:20260416T141828Z
UID:10002281-1790091000-1790100000@www.hello-yellow.at
SUMMARY:Jugend @ hello yellow Velodrom Linz
DESCRIPTION:
URL:https://www.hello-yellow.at/event/jugend-hello-yellow-velodrom-linz/2026-09-22/
END:VEVENT
BEGIN:VEVENT
DTSTART;TZID=Europe/Berlin:20260929T153000
DTEND;TZID=Europe/Berlin:20260929T180000
DTSTAMP:20260425T121756
CREATED:20260416T135938Z
LAST-MODIFIED:20260416T141828Z
UID:10002282-1790695800-1790704800@www.hello-yellow.at
SUMMARY:Jugend @ hello yellow Velodrom Linz
DESCRIPTION:
URL:https://www.hello-yellow.at/event/jugend-hello-yellow-velodrom-linz/2026-09-29/
END:VEVENT
BEGIN:VEVENT
DTSTART;TZID=Europe/Berlin:20261006T153000
DTEND;TZID=Europe/Berlin:20261006T180000
DTSTAMP:20260425T121756
CREATED:20260416T135938Z
LAST-MODIFIED:20260416T141828Z
UID:10002283-1791300600-1791309600@www.hello-yellow.at
SUMMARY:Jugend @ hello yellow Velodrom Linz
DESCRIPTION:
URL:https://www.hello-yellow.at/event/jugend-hello-yellow-velodrom-linz/2026-10-06/
END:VEVENT
BEGIN:VEVENT
DTSTART;TZID=Europe/Berlin:20261013T153000
DTEND;TZID=Europe/Berlin:20261013T180000
DTSTAMP:20260425T121756
CREATED:20260416T135938Z
LAST-MODIFIED:20260416T141828Z
UID:10002284-1791905400-1791914400@www.hello-yellow.at
SUMMARY:Jugend @ hello yellow Velodrom Linz
DESCRIPTION:
URL:https://www.hello-yellow.at/event/jugend-hello-yellow-velodrom-linz/2026-10-13/
END:VEVENT
BEGIN:VEVENT
DTSTART;TZID=Europe/Berlin:20261020T153000
DTEND;TZID=Europe/Berlin:20261020T180000
DTSTAMP:20260425T121756
CREATED:20260416T135938Z
LAST-MODIFIED:20260416T141828Z
UID:10002285-1792510200-1792519200@www.hello-yellow.at
SUMMARY:Jugend @ hello yellow Velodrom Linz
DESCRIPTION:
URL:https://www.hello-yellow.at/event/jugend-hello-yellow-velodrom-linz/2026-10-20/
END:VEVENT
BEGIN:VEVENT
DTSTART;TZID=Europe/Berlin:20261027T153000
DTEND;TZID=Europe/Berlin:20261027T180000
DTSTAMP:20260425T121756
CREATED:20260416T135938Z
LAST-MODIFIED:20260416T141828Z
UID:10002286-1793115000-1793124000@www.hello-yellow.at
SUMMARY:Jugend @ hello yellow Velodrom Linz
DESCRIPTION:
URL:https://www.hello-yellow.at/event/jugend-hello-yellow-velodrom-linz/2026-10-27/
END:VEVENT
BEGIN:VEVENT
DTSTART;TZID=Europe/Berlin:20261103T153000
DTEND;TZID=Europe/Berlin:20261103T180000
DTSTAMP:20260425T121756
CREATED:20260416T135938Z
LAST-MODIFIED:20260416T141828Z
UID:10002306-1793719800-1793728800@www.hello-yellow.at
SUMMARY:Jugend @ hello yellow Velodrom Linz
DESCRIPTION:
URL:https://www.hello-yellow.at/event/jugend-hello-yellow-velodrom-linz/2026-11-03/
END:VEVENT
BEGIN:VEVENT
DTSTART;TZID=Europe/Berlin:20261110T153000
DTEND;TZID=Europe/Berlin:20261110T180000
DTSTAMP:20260425T121756
CREATED:20260416T135938Z
LAST-MODIFIED:20260416T141828Z
UID:10002307-1794324600-1794333600@www.hello-yellow.at
SUMMARY:Jugend @ hello yellow Velodrom Linz
DESCRIPTION:
URL:https://www.hello-yellow.at/event/jugend-hello-yellow-velodrom-linz/2026-11-10/
END:VEVENT
BEGIN:VEVENT
DTSTART;TZID=Europe/Berlin:20261117T153000
DTEND;TZID=Europe/Berlin:20261117T180000
DTSTAMP:20260425T121756
CREATED:20260416T135938Z
LAST-MODIFIED:20260416T141828Z
UID:10002308-1794929400-1794938400@www.hello-yellow.at
SUMMARY:Jugend @ hello yellow Velodrom Linz
DESCRIPTION:
URL:https://www.hello-yellow.at/event/jugend-hello-yellow-velodrom-linz/2026-11-17/
END:VEVENT
BEGIN:VEVENT
DTSTART;TZID=Europe/Berlin:20261124T153000
DTEND;TZID=Europe/Berlin:20261124T180000
DTSTAMP:20260425T121756
CREATED:20260416T135938Z
LAST-MODIFIED:20260416T141828Z
UID:10002309-1795534200-1795543200@www.hello-yellow.at
SUMMARY:Jugend @ hello yellow Velodrom Linz
DESCRIPTION:
URL:https://www.hello-yellow.at/event/jugend-hello-yellow-velodrom-linz/2026-11-24/
END:VEVENT
BEGIN:VEVENT
DTSTART;TZID=Europe/Berlin:20261201T153000
DTEND;TZID=Europe/Berlin:20261201T180000
DTSTAMP:20260425T121756
CREATED:20260416T135938Z
LAST-MODIFIED:20260416T141828Z
UID:10002310-1796139000-1796148000@www.hello-yellow.at
SUMMARY:Jugend @ hello yellow Velodrom Linz
DESCRIPTION:
URL:https://www.hello-yellow.at/event/jugend-hello-yellow-velodrom-linz/2026-12-01/
END:VEVENT
END:VCALENDAR